BEGIN:VCALENDAR
VERSION:2.0
PRODID:-//PYVOBJECT//NONSGML Version 0.9.9//EN
X-WR-TIMEZONE:Africa/Johannesburg
BEGIN:VTIMEZONE
TZID:Africa/Johannesburg
BEGIN:STANDARD
DTSTART:20000101T000000
RRULE:FREQ=YEARLY;BYMONTH=1
TZNAME:SAST
TZOFFSETFROM:+0200
TZOFFSETTO:+0200
END:STANDARD
END:VTIMEZONE
BEGIN:VEVENT
UID:20260420T132124Z - 50387@eos-content
DTSTART;TZID=Africa/Johannesburg:20260425T080000
DTEND;TZID=Africa/Johannesburg:20260425T130000
ATTENDEE:MAILTO:matshwane@property-tree.co.za
ATTENDEE:MAILTO:terence@property-tree.co.za
DESCRIPTION:https://www.property-tree.co.za/results/residential/to-let/hart
 beespoort/melodie/house/3097567/63-caper-bush-estate/\n\nCaper Bush Estate
 \n\nMatshwane Motlhatlhedi (0783143837)\n\nTerence Gaw (0693602710)
DTSTAMP:20260420T132124Z
LOCATION:63 Caper Bush Estate\, Melodie\, Hartbeespoort
SUMMARY:Property Tree Show Day - RL6598
END:VEVENT
END:VCALENDAR
