BEGIN:VCALENDAR
VERSION:2.0
PRODID:-//PYVOBJECT//NONSGML Version 0.9.9//EN
X-WR-TIMEZONE:Africa/Johannesburg
BEGIN:VTIMEZONE
TZID:Africa/Johannesburg
BEGIN:STANDARD
DTSTART:20000101T000000
RRULE:FREQ=YEARLY;BYMONTH=1
TZNAME:SAST
TZOFFSETFROM:+0200
TZOFFSETTO:+0200
END:STANDARD
END:VTIMEZONE
BEGIN:VEVENT
UID:20260420T182740Z - 68750@eos-content
DTSTART;TZID=Africa/Johannesburg:20260425T080000
DTEND;TZID=Africa/Johannesburg:20260425T130000
ATTENDEE:MAILTO:lesley@property-tree.co.za
DESCRIPTION:https://www.property-tree.co.za/results/residential/for-sale/ha
 rtbeespoort/melodie/house/3123931/18-caper-bush-schubert-street/\n\nCaper 
 Bush Estate\n\nLesley Chirinda (0788834934)
DTSTAMP:20260420T182740Z
LOCATION:18 Caper Bush\, Schubert street\, Melodie\, Hartbeespoort
SUMMARY:Property Tree Show Day - RL6635
END:VEVENT
END:VCALENDAR
