BEGIN:VCALENDAR
VERSION:2.0
PRODID:-//PYVOBJECT//NONSGML Version 0.9.9//EN
X-WR-TIMEZONE:Africa/Johannesburg
BEGIN:VTIMEZONE
TZID:Africa/Johannesburg
BEGIN:STANDARD
DTSTART:20000101T000000
RRULE:FREQ=YEARLY;BYMONTH=1
TZNAME:SAST
TZOFFSETFROM:+0200
TZOFFSETTO:+0200
END:STANDARD
END:VTIMEZONE
BEGIN:VEVENT
UID:20260422T165722Z - 75001@eos-content
DTSTART;TZID=Africa/Johannesburg:20260425T080000
DTEND;TZID=Africa/Johannesburg:20260425T130000
ATTENDEE:MAILTO:nakedi@property-tree.co.za
DESCRIPTION:https://www.property-tree.co.za/results/residential/for-sale/ha
 rtbeespoort/melodie/freehold/3124742/\n\nCaper Bush Estate\n\nNakedi Mabot
 ja (0789061479)
DTSTAMP:20260422T165722Z
LOCATION:Melodie\, Hartbeespoort
SUMMARY:Property Tree Show Day - RL6636
END:VEVENT
END:VCALENDAR
